BEGIN:VCALENDAR
VERSION:2.0
PRODID:-//Frescultura - ECPv6.15.15//NONSGML v1.0//EN
CALSCALE:GREGORIAN
METHOD:PUBLISH
X-WR-CALNAME:Frescultura
X-ORIGINAL-URL:https://frescultura.es
X-WR-CALDESC:Eventos para Frescultura
REFRESH-INTERVAL;VALUE=DURATION:PT1H
X-Robots-Tag:noindex
X-PUBLISHED-TTL:PT1H
BEGIN:VTIMEZONE
TZID:Europe/Paris
BEGIN:DAYLIGHT
TZOFFSETFROM:+0100
TZOFFSETTO:+0200
TZNAME:CEST
DTSTART:20240331T010000
END:DAYLIGHT
BEGIN:STANDARD
TZOFFSETFROM:+0200
TZOFFSETTO:+0100
TZNAME:CET
DTSTART:20241027T010000
END:STANDARD
BEGIN:DAYLIGHT
TZOFFSETFROM:+0100
TZOFFSETTO:+0200
TZNAME:CEST
DTSTART:20250330T010000
END:DAYLIGHT
BEGIN:STANDARD
TZOFFSETFROM:+0200
TZOFFSETTO:+0100
TZNAME:CET
DTSTART:20251026T010000
END:STANDARD
BEGIN:DAYLIGHT
TZOFFSETFROM:+0100
TZOFFSETTO:+0200
TZNAME:CEST
DTSTART:20260329T010000
END:DAYLIGHT
BEGIN:STANDARD
TZOFFSETFROM:+0200
TZOFFSETTO:+0100
TZNAME:CET
DTSTART:20261025T010000
END:STANDARD
END:VTIMEZONE
BEGIN:VEVENT
DTSTART;TZID=Europe/Paris:20251128T190000
DTEND;TZID=Europe/Paris:20251128T200000
DTSTAMP:20260423T205526
CREATED:20250915T082407Z
LAST-MODIFIED:20250915T082407Z
UID:9643-1764356400-1764360000@frescultura.es
SUMMARY:Las Raras - San Juan del Valle (Cádiz)
DESCRIPTION:«Estoy Rara»\, una sucesión de nueve sketches que se cruzan en un loco concurso radiofónico. \nUna comedia fresca y descarada donde la realidad se ve ridiculizada a través de la cara más absurda y cómica de nuestros pequeños dramas diarios. \nUna sucesión de nueve sketches cómicos que se cruzan en un loco concurso radiofónico donde los concursantes adivinarán\, o no\, el título de cada escena rellenando así un crucigrama proyectado. \nActividad subvencionada por la Diputación de Cádiz.
URL:https://frescultura.es/agenda/las-raras-san-juan-del-valle-cadiz/
LOCATION:Auditorio Municipal Juan Sánchez Gutiérrez – San Juan del Valle\, San José del Valle (Cádiz)\, Cádiz\, 11580\, Spain
CATEGORIES:Monólogo
ATTACH;FMTTYPE=image/jpeg:https://frescultura.es/wp-content/uploads/2023/08/Frescultura-Las-Raras_1.jpg
END:VEVENT
BEGIN:VEVENT
DTSTART;TZID=Europe/Paris:20251128T220000
DTEND;TZID=Europe/Paris:20251128T230000
DTSTAMP:20260423T205526
CREATED:20251024T092533Z
LAST-MODIFIED:20251024T092533Z
UID:9801-1764367200-1764370800@frescultura.es
SUMMARY:Taconterra Dansa - L'Alcùdia
DESCRIPTION:«Que flamenca sóc» és un espectacle de música i dansa\, amb una proposta fresca i creativa on es fusiona el millor del folklore valencià i els pals més clàssics del flamenc. Una harmonia perfecta entre el més conegut de l’art flamenc i el més popular de la nostra tradició\, mesclant aquestes cultures en un gran espectacle. \nGaudiràs del cant d’estil amb Josep Aparisi «Apa»\, la guitarra de Ricardo Esteve\, el cant d’Isabel Julve\, la percussió de Jesús Gimeno i el ball de les valencianes Julia Gimeno Asins i Ana Lloris.
URL:https://frescultura.es/agenda/taconterra-dansa-lalcudia/
LOCATION:Casa de la Cultura – L’Alcùdia\, Plaça Tirant lo Blanc\, s/n\, L'Alcùdia\, Valencia\, 46250\, Spain
CATEGORIES:danza
ATTACH;FMTTYPE=image/jpeg:https://frescultura.es/wp-content/uploads/2023/08/Frescultura-Taconterra.jpg
END:VEVENT
END:VCALENDAR