BEGIN:VCALENDAR
VERSION:2.0
PRODID:-//Frescultura - ECPv6.15.15//NONSGML v1.0//EN
CALSCALE:GREGORIAN
METHOD:PUBLISH
X-ORIGINAL-URL:https://frescultura.es
X-WR-CALDESC:Eventos para Frescultura
REFRESH-INTERVAL;VALUE=DURATION:PT1H
X-Robots-Tag:noindex
X-PUBLISHED-TTL:PT1H
BEGIN:VTIMEZONE
TZID:Europe/Paris
BEGIN:DAYLIGHT
TZOFFSETFROM:+0100
TZOFFSETTO:+0200
TZNAME:CEST
DTSTART:20240331T010000
END:DAYLIGHT
BEGIN:STANDARD
TZOFFSETFROM:+0200
TZOFFSETTO:+0100
TZNAME:CET
DTSTART:20241027T010000
END:STANDARD
BEGIN:DAYLIGHT
TZOFFSETFROM:+0100
TZOFFSETTO:+0200
TZNAME:CEST
DTSTART:20250330T010000
END:DAYLIGHT
BEGIN:STANDARD
TZOFFSETFROM:+0200
TZOFFSETTO:+0100
TZNAME:CET
DTSTART:20251026T010000
END:STANDARD
BEGIN:DAYLIGHT
TZOFFSETFROM:+0100
TZOFFSETTO:+0200
TZNAME:CEST
DTSTART:20260329T010000
END:DAYLIGHT
BEGIN:STANDARD
TZOFFSETFROM:+0200
TZOFFSETTO:+0100
TZNAME:CET
DTSTART:20261025T010000
END:STANDARD
END:VTIMEZONE
BEGIN:VEVENT
DTSTART;TZID=Europe/Paris:20251124T190000
DTEND;TZID=Europe/Paris:20251124T200000
DTSTAMP:20260423T205737
CREATED:20250915T081035Z
LAST-MODIFIED:20250915T081035Z
UID:9637-1764010800-1764014400@frescultura.es
SUMMARY:Pepa Cases - Chelva
DESCRIPTION:«Bésame 2.0» es el resultado de una propuesta de danza y teatro participativa que trabaja el tema de la violencia de género de una manera íntima y cercana y con carácter de taller didáctico de prevención\, dado su original formato creado por la actriz y bailarina Pepa Cases\, cuya pieza finaliza a modo de tertulia. \nEste trabajo partió de una pieza breve de danza\, Bésame hasta que tu muerte nos separe\, creada en el 2006 y que\, tras las experiencias compartidas en diferentes países como Francia\, Grecia\, Inglaterra\, Argentina\, Chile y Uruguay\, entre otros\, en 2012 evolucionó sumando un texto en forma de testimonio y convirtiéndose en una pieza reformada y reestructurada con mayor duración y alternando texto teatral y danza contemporánea. \nAl final de la función se celebra un coloquio con los asistentes. \nActuación patrocinada por el Circuit Valencià de Cultura organizado por Institut Valencià de Cultura (IVC) en colaboración con la Federació Valenciana de Municipis i Províncies (FVMP).
URL:https://frescultura.es/agenda/pepa-cases-chelva/
LOCATION:Auditorio Municipal – Chelva\, Calle Sociedad Musical Santa Cecília\, 1.\, Chelva\, Valencia\, 46176\, Spain
CATEGORIES:danza
ATTACH;FMTTYPE=image/jpeg:https://frescultura.es/wp-content/uploads/2025/01/PEPA-CASES-BESAME-2.0.jpg
END:VEVENT
END:VCALENDAR