BEGIN:VCALENDAR
VERSION:2.0
PRODID:-//Frescultura - ECPv6.15.15//NONSGML v1.0//EN
CALSCALE:GREGORIAN
METHOD:PUBLISH
X-ORIGINAL-URL:https://frescultura.es
X-WR-CALDESC:Eventos para Frescultura
REFRESH-INTERVAL;VALUE=DURATION:PT1H
X-Robots-Tag:noindex
X-PUBLISHED-TTL:PT1H
BEGIN:VTIMEZONE
TZID:Europe/Paris
BEGIN:DAYLIGHT
TZOFFSETFROM:+0100
TZOFFSETTO:+0200
TZNAME:CEST
DTSTART:20240331T010000
END:DAYLIGHT
BEGIN:STANDARD
TZOFFSETFROM:+0200
TZOFFSETTO:+0100
TZNAME:CET
DTSTART:20241027T010000
END:STANDARD
BEGIN:DAYLIGHT
TZOFFSETFROM:+0100
TZOFFSETTO:+0200
TZNAME:CEST
DTSTART:20250330T010000
END:DAYLIGHT
BEGIN:STANDARD
TZOFFSETFROM:+0200
TZOFFSETTO:+0100
TZNAME:CET
DTSTART:20251026T010000
END:STANDARD
BEGIN:DAYLIGHT
TZOFFSETFROM:+0100
TZOFFSETTO:+0200
TZNAME:CEST
DTSTART:20260329T010000
END:DAYLIGHT
BEGIN:STANDARD
TZOFFSETFROM:+0200
TZOFFSETTO:+0100
TZNAME:CET
DTSTART:20261025T010000
END:STANDARD
END:VTIMEZONE
BEGIN:VEVENT
DTSTART;TZID=Europe/Paris:20251123T080000
DTEND;TZID=Europe/Paris:20251123T170000
DTSTAMP:20260423T205742
CREATED:20251024T091154Z
LAST-MODIFIED:20251024T091154Z
UID:9791-1763884800-1763917200@frescultura.es
SUMMARY:Fil Roig - La Romana
DESCRIPTION:¿Qué manos tejen ese hilo rojo?¿Cómo se calibran su grosor y resistencia?¿Dónde se decide si el hilo se tensará como un arco o si se perderá enmarañado entre otros miles de hilos? \nCuatro mujeres conocen el secreto. Ellas bailan con los destinos de todos mientras sus propias vidas se van tejiendo de recuerdos\, amores y desencuentros que no son suyos. \nActuación patrocinada por el Circuit Valencià de Cultura organizada por el Institut Valencià de Cultura (IVC) con colaboración de la Federació Valenciana de Municipis i Províncies (FVMP).
URL:https://frescultura.es/agenda/fil-roig-la-romana/
LOCATION:Casa de Cultura – La Romana\, Calle Cervantes\, 8\, La Romana\, Alicante\, 03669\, Spain
CATEGORIES:danza
ATTACH;FMTTYPE=image/jpeg:https://frescultura.es/wp-content/uploads/2024/11/FC-FIL-ROIG-WEB-COMPRESSED-scaled.jpg
END:VEVENT
BEGIN:VEVENT
DTSTART;TZID=Europe/Paris:20251123T123000
DTEND;TZID=Europe/Paris:20251123T153000
DTSTAMP:20260423T205742
CREATED:20250915T080614Z
LAST-MODIFIED:20250915T080614Z
UID:9634-1763901000-1763911800@frescultura.es
SUMMARY:Nanets Band Rock - Alcàsser
DESCRIPTION:Espectacle de rock and roll en valencià sobre els drets de la infància. A aquest nou espectacle hem aprofundit en els drets de la infància\, creant un show a mida per a les xiquetes i els xiquets i les famílies\, alhora que educatiu i social. \nA l’espectacle es combinen cançons amb temàtiques del món de la infància i els valors\, endolcits amb temes d’actualitat. Tot en una posada en escena amb músics tocant en directe\, i diversos sketches teatrals interpretats per la pallassa Pupetes\, que interactua amb la cantant i fan participar els més menuts. \nAmb aquesta banda\, i temes dels anys 50-60\, disfrutaran tant menuts com grandets\, sense parar de ballar i de riure.
URL:https://frescultura.es/agenda/nanets-band-rock-alcasser/
LOCATION:Parque de los Monos – Alcàsser\, Calle Silla\, 59\, Alcàsser\, Valencia\, 46290\, Spain
CATEGORIES:Música
ATTACH;FMTTYPE=image/jpeg:https://frescultura.es/wp-content/uploads/2023/08/Frescultura-Nanets-Band-Rock.jpg
END:VEVENT
BEGIN:VEVENT
DTSTART;TZID=Europe/Paris:20251123T190000
DTEND;TZID=Europe/Paris:20251123T200000
DTSTAMP:20260423T205742
CREATED:20250915T080023Z
LAST-MODIFIED:20250915T080033Z
UID:9627-1763924400-1763928000@frescultura.es
SUMMARY:Miki Dkai - Ayora
DESCRIPTION:«Padre de familia. Cosas de casa».  \nEn esta refrescante comedia\, Miki nos abre las puertas de su hogar y nos sumerge en su día a día junto a su esposa\, «La Pilar»\, y sus encantadoras hijas. Prepárate para descubrir la rutina de un padre rodeado de cuatro mujeres\, todo con un toque de humor irresistible. Desde lidiar con un solo baño hasta compartir un solo coche y enfrentarse a épicas aventuras familiares\, Miki nos enseñará como lo simple puede convertirse en una odisea en un abrir y cerrar de ojos. Sin embargo\, al final del día\, nos recordará que la familia es el tesoro más preciado de todos… Siempre que esa familia no incluya ni a sus yernos ni a su suegra. Con una trayectoria que incluye exitosas presentaciones en TVE\, Comedy Central y el Club de la Comedia\, Miki Dkai nos ofrece este monólogo cómico con un toque andaluz que promete arrancar carcajadas al público. Únete a nosotros y prepárate para pasar un rato sumamente divertido en su compañía !No te lo puedes perder!
URL:https://frescultura.es/agenda/miki-dkai-ayora/
LOCATION:Auditorio Municipal Mencía de Mendoza – Ayora\, Calle Trinquete\, 31\, Ayora\, Valencia\, 46620\, Spain
CATEGORIES:Monólogo
ATTACH;FMTTYPE=image/jpeg:https://frescultura.es/wp-content/uploads/2025/09/MIKI-DKAI-PADRE-DE-FAMILIA.jpg
END:VEVENT
END:VCALENDAR