BEGIN:VCALENDAR
VERSION:2.0
PRODID:-//Frescultura - ECPv6.15.15//NONSGML v1.0//EN
CALSCALE:GREGORIAN
METHOD:PUBLISH
X-ORIGINAL-URL:https://frescultura.es
X-WR-CALDESC:Eventos para Frescultura
REFRESH-INTERVAL;VALUE=DURATION:PT1H
X-Robots-Tag:noindex
X-PUBLISHED-TTL:PT1H
BEGIN:VTIMEZONE
TZID:Europe/Paris
BEGIN:DAYLIGHT
TZOFFSETFROM:+0100
TZOFFSETTO:+0200
TZNAME:CEST
DTSTART:20240331T010000
END:DAYLIGHT
BEGIN:STANDARD
TZOFFSETFROM:+0200
TZOFFSETTO:+0100
TZNAME:CET
DTSTART:20241027T010000
END:STANDARD
BEGIN:DAYLIGHT
TZOFFSETFROM:+0100
TZOFFSETTO:+0200
TZNAME:CEST
DTSTART:20250330T010000
END:DAYLIGHT
BEGIN:STANDARD
TZOFFSETFROM:+0200
TZOFFSETTO:+0100
TZNAME:CET
DTSTART:20251026T010000
END:STANDARD
BEGIN:DAYLIGHT
TZOFFSETFROM:+0100
TZOFFSETTO:+0200
TZNAME:CEST
DTSTART:20260329T010000
END:DAYLIGHT
BEGIN:STANDARD
TZOFFSETFROM:+0200
TZOFFSETTO:+0100
TZNAME:CET
DTSTART:20261025T010000
END:STANDARD
END:VTIMEZONE
BEGIN:VEVENT
DTSTART;TZID=Europe/Paris:20251121T193000
DTEND;TZID=Europe/Paris:20251121T203000
DTSTAMP:20260423T205739
CREATED:20251024T084548Z
LAST-MODIFIED:20251024T084548Z
UID:9774-1763753400-1763757000@frescultura.es
SUMMARY:Reyes Ruiz - Aberic
DESCRIPTION:Mari\,  palante!\, la divertida historia de una sevillana y sus vecinas . \nReyes Ruiz presenta un monólogo teatral con canciones en directo. Poético y divertido\, con un claro mensaje de reivindicación de la mujer. \nLa Mari es una sevillana de mediana edad que de una manera tierna y divertida\, desde su intimidad\, nos irá desvelando entre consejos\, historias y canciones los anhelos y temores de las mujeres actuales.
URL:https://frescultura.es/agenda/reyes-ruiz-aberic/
LOCATION:Teatro Liceo – Alberic\, Carrer Sant Llorenç\, 27\, Alberic\, Valencia\, 46260\, Spain
CATEGORIES:Teatro Adulto
ATTACH;FMTTYPE=image/jpeg:https://frescultura.es/wp-content/uploads/2025/10/Mari-palante-Reyes-Ruiz.jpg
END:VEVENT
BEGIN:VEVENT
DTSTART;TZID=Europe/Paris:20251121T193000
DTEND;TZID=Europe/Paris:20251121T210000
DTSTAMP:20260423T205739
CREATED:20250911T080336Z
LAST-MODIFIED:20250911T082405Z
UID:9565-1763753400-1763758800@frescultura.es
SUMMARY:Gala de la Comèdia - Alzira
DESCRIPTION:La Falla Colònia Ana Sanchis organitza una nit d’humor amb 4 dels humoristes mes divertits del panorama actual: Paco enlaluna\, Chely Capitán\, Manu Badenes y Manu Górriz seran els protagonistes de una nit plena de rialles. Una acte presentat per María Minaya. \n  \n  \n  \n 
URL:https://frescultura.es/agenda/gala-de-la-comedia-alzira/
LOCATION:Cotonera Events – Alzira\, Avenida Guadassuar\, s/n\, Alzira\, Valencia\, 46600\, Spain
CATEGORIES:Monólogo
ATTACH;FMTTYPE=image/jpeg:https://frescultura.es/wp-content/uploads/2025/09/Festival-de-Comedia-Alzira.jpg
END:VEVENT
END:VCALENDAR