BEGIN:VCALENDAR
VERSION:2.0
PRODID:-//Frescultura - ECPv6.15.15//NONSGML v1.0//EN
CALSCALE:GREGORIAN
METHOD:PUBLISH
X-WR-CALNAME:Frescultura
X-ORIGINAL-URL:https://frescultura.es
X-WR-CALDESC:Eventos para Frescultura
REFRESH-INTERVAL;VALUE=DURATION:PT1H
X-Robots-Tag:noindex
X-PUBLISHED-TTL:PT1H
BEGIN:VTIMEZONE
TZID:Europe/Paris
BEGIN:DAYLIGHT
TZOFFSETFROM:+0100
TZOFFSETTO:+0200
TZNAME:CEST
DTSTART:20240331T010000
END:DAYLIGHT
BEGIN:STANDARD
TZOFFSETFROM:+0200
TZOFFSETTO:+0100
TZNAME:CET
DTSTART:20241027T010000
END:STANDARD
BEGIN:DAYLIGHT
TZOFFSETFROM:+0100
TZOFFSETTO:+0200
TZNAME:CEST
DTSTART:20250330T010000
END:DAYLIGHT
BEGIN:STANDARD
TZOFFSETFROM:+0200
TZOFFSETTO:+0100
TZNAME:CET
DTSTART:20251026T010000
END:STANDARD
BEGIN:DAYLIGHT
TZOFFSETFROM:+0100
TZOFFSETTO:+0200
TZNAME:CEST
DTSTART:20260329T010000
END:DAYLIGHT
BEGIN:STANDARD
TZOFFSETFROM:+0200
TZOFFSETTO:+0100
TZNAME:CET
DTSTART:20261025T010000
END:STANDARD
END:VTIMEZONE
BEGIN:VEVENT
DTSTART;TZID=Europe/Paris:20251108T193000
DTEND;TZID=Europe/Paris:20251108T200000
DTSTAMP:20260423T205025
CREATED:20251024T083804Z
LAST-MODIFIED:20251024T083804Z
UID:9770-1762630200-1762632000@frescultura.es
SUMMARY:Fil Roig - Onil
DESCRIPTION:¿Qué manos tejen ese hilo rojo?¿Cómo se calibran su grosor y resistencia?¿Dónde se decide si el hilo se tensará como un arco o si se perderá enmarañado entre otros miles de hilos? \nCuatro mujeres conocen el secreto. Ellas bailan con los destinos de todos mientras sus propias vidas se van tejiendo de recuerdos\, amores y desencuentros que no son suyos. \nActuación patrocinada por el Circuit Valencià de Cultura organizada por el Institut Valencià de Cultura (IVC) con colaboración de la Federació Valenciana de Municipis i Províncies (FVMP).
URL:https://frescultura.es/agenda/fil-roig-onil/
LOCATION:Centro Cultural de Onil\, Avinguda de la Constitució\, 21\, Onil\, Alicante\, 03430
CATEGORIES:danza
ATTACH;FMTTYPE=image/jpeg:https://frescultura.es/wp-content/uploads/2024/11/FC-FIL-ROIG-WEB-COMPRESSED-1.jpg
END:VEVENT
END:VCALENDAR