BEGIN:VCALENDAR
VERSION:2.0
PRODID:-//Frescultura - ECPv6.15.15//NONSGML v1.0//EN
CALSCALE:GREGORIAN
METHOD:PUBLISH
X-ORIGINAL-URL:https://frescultura.es
X-WR-CALDESC:Eventos para Frescultura
REFRESH-INTERVAL;VALUE=DURATION:PT1H
X-Robots-Tag:noindex
X-PUBLISHED-TTL:PT1H
BEGIN:VTIMEZONE
TZID:Europe/Paris
BEGIN:DAYLIGHT
TZOFFSETFROM:+0100
TZOFFSETTO:+0200
TZNAME:CEST
DTSTART:20240331T010000
END:DAYLIGHT
BEGIN:STANDARD
TZOFFSETFROM:+0200
TZOFFSETTO:+0100
TZNAME:CET
DTSTART:20241027T010000
END:STANDARD
BEGIN:DAYLIGHT
TZOFFSETFROM:+0100
TZOFFSETTO:+0200
TZNAME:CEST
DTSTART:20250330T010000
END:DAYLIGHT
BEGIN:STANDARD
TZOFFSETFROM:+0200
TZOFFSETTO:+0100
TZNAME:CET
DTSTART:20251026T010000
END:STANDARD
BEGIN:DAYLIGHT
TZOFFSETFROM:+0100
TZOFFSETTO:+0200
TZNAME:CEST
DTSTART:20260329T010000
END:DAYLIGHT
BEGIN:STANDARD
TZOFFSETFROM:+0200
TZOFFSETTO:+0100
TZNAME:CET
DTSTART:20261025T010000
END:STANDARD
END:VTIMEZONE
BEGIN:VEVENT
DTSTART;TZID=Europe/Paris:20251102T183000
DTEND;TZID=Europe/Paris:20251102T193000
DTSTAMP:20260423T210239
CREATED:20251024T080502Z
LAST-MODIFIED:20251024T080502Z
UID:9766-1762108200-1762111800@frescultura.es
SUMMARY:Piter Pardo
DESCRIPTION:Piter Pardo\, el máximo exponente del mínimo común denominador del humor. Magia y monólogo en uno de los shows más particulares\, vertiginosos e interactivos que existen…..o no….humor pardo-quier!!!
URL:https://frescultura.es/agenda/piter-pardo/
LOCATION:El Patronato – Villar del Arzobispo\, Calle Las Cruces\, 16\, Villar del Arzobispo\, Valencia\, 46170\, Spain
CATEGORIES:Monólogo,Magia
ATTACH;FMTTYPE=image/jpeg:https://frescultura.es/wp-content/uploads/2025/10/PITER-PARDO.jpg
END:VEVENT
END:VCALENDAR