BEGIN:VCALENDAR
VERSION:2.0
PRODID:-//Frescultura - ECPv6.15.15//NONSGML v1.0//EN
CALSCALE:GREGORIAN
METHOD:PUBLISH
X-WR-CALNAME:Frescultura
X-ORIGINAL-URL:https://frescultura.es
X-WR-CALDESC:Eventos para Frescultura
REFRESH-INTERVAL;VALUE=DURATION:PT1H
X-Robots-Tag:noindex
X-PUBLISHED-TTL:PT1H
BEGIN:VTIMEZONE
TZID:Europe/Paris
BEGIN:DAYLIGHT
TZOFFSETFROM:+0100
TZOFFSETTO:+0200
TZNAME:CEST
DTSTART:20240331T010000
END:DAYLIGHT
BEGIN:STANDARD
TZOFFSETFROM:+0200
TZOFFSETTO:+0100
TZNAME:CET
DTSTART:20241027T010000
END:STANDARD
BEGIN:DAYLIGHT
TZOFFSETFROM:+0100
TZOFFSETTO:+0200
TZNAME:CEST
DTSTART:20250330T010000
END:DAYLIGHT
BEGIN:STANDARD
TZOFFSETFROM:+0200
TZOFFSETTO:+0100
TZNAME:CET
DTSTART:20251026T010000
END:STANDARD
BEGIN:DAYLIGHT
TZOFFSETFROM:+0100
TZOFFSETTO:+0200
TZNAME:CEST
DTSTART:20260329T010000
END:DAYLIGHT
BEGIN:STANDARD
TZOFFSETFROM:+0200
TZOFFSETTO:+0100
TZNAME:CET
DTSTART:20261025T010000
END:STANDARD
END:VTIMEZONE
BEGIN:VEVENT
DTSTART;TZID=Europe/Paris:20251029T183000
DTEND;TZID=Europe/Paris:20251029T193000
DTSTAMP:20260423T204558
CREATED:20250911T090242Z
LAST-MODIFIED:20251024T073242Z
UID:9593-1761762600-1761766200@frescultura.es
SUMMARY:Vidda Priego - UJI
DESCRIPTION:«Género y figura«\, espectáculo de humor hilarante que reflexiona sobre la propia identidad sexual y de género. \nVidda Priego nos hace protagonistas de historias humanas\, universales y temas tan actuales como las identidades de género\, el poliamor o las diferentes formas de relacionarse\, la orientación sexual\, el feminismo interseccional\, el viaje a tu propia identidad y el encuentro con todas ellas. \nVidda cierra con una improvisación participativa con la colaboración del público rompiendo con los estigmas y clichés de las relaciones construidas basándose en los estereotipos de género. \nVidda Priego es una persona trans no-binaria. ¿Sabes lo que significa? Tranquila\, Vidda tampoco lo sabía.
URL:https://frescultura.es/agenda/vidda-priego-uji/
LOCATION:Ágora – UJI\, Av. Vicent Sos Baynat\, s/n.\, Castellón de la Plana\, Castellón\, 12071\, Spain
CATEGORIES:Monólogo
ATTACH;FMTTYPE=image/jpeg:https://frescultura.es/wp-content/uploads/2023/08/Frescultura-Vidda-Priego-Genio-y-figura.jpg
END:VEVENT
END:VCALENDAR