BEGIN:VCALENDAR
VERSION:2.0
PRODID:-//Frescultura - ECPv6.15.15//NONSGML v1.0//EN
CALSCALE:GREGORIAN
METHOD:PUBLISH
X-WR-CALNAME:Frescultura
X-ORIGINAL-URL:https://frescultura.es
X-WR-CALDESC:Eventos para Frescultura
REFRESH-INTERVAL;VALUE=DURATION:PT1H
X-Robots-Tag:noindex
X-PUBLISHED-TTL:PT1H
BEGIN:VTIMEZONE
TZID:Europe/Paris
BEGIN:DAYLIGHT
TZOFFSETFROM:+0100
TZOFFSETTO:+0200
TZNAME:CEST
DTSTART:20240331T010000
END:DAYLIGHT
BEGIN:STANDARD
TZOFFSETFROM:+0200
TZOFFSETTO:+0100
TZNAME:CET
DTSTART:20241027T010000
END:STANDARD
BEGIN:DAYLIGHT
TZOFFSETFROM:+0100
TZOFFSETTO:+0200
TZNAME:CEST
DTSTART:20250330T010000
END:DAYLIGHT
BEGIN:STANDARD
TZOFFSETFROM:+0200
TZOFFSETTO:+0100
TZNAME:CET
DTSTART:20251026T010000
END:STANDARD
BEGIN:DAYLIGHT
TZOFFSETFROM:+0100
TZOFFSETTO:+0200
TZNAME:CEST
DTSTART:20260329T010000
END:DAYLIGHT
BEGIN:STANDARD
TZOFFSETFROM:+0200
TZOFFSETTO:+0100
TZNAME:CET
DTSTART:20261025T010000
END:STANDARD
END:VTIMEZONE
BEGIN:VEVENT
DTSTART;TZID=Europe/Paris:20251008T200000
DTEND;TZID=Europe/Paris:20251008T210000
DTSTAMP:20260423T235937
CREATED:20250908T093827Z
LAST-MODIFIED:20250929T112442Z
UID:9535-1759953600-1759957200@frescultura.es
SUMMARY:La Pepa - Ontinyent
DESCRIPTION:«III» és un disc amb cançons d’autora protagonitzades per l’amor\, la lluita\, la terra… cançons per endinsar-se en un o una mateixa\, cançons per descobrir-se de nou. Un disc en valencià destinat a tota mena de públic i un llenguatge que camina pel pop i amb un directe fresc\, senzill i acollidor amb tocs festius i reivindicatius. \nEl títol del disc coincideix a més a més\, am \nb el tercer treball musical de «la Pepa»\, però representa alhora un número màgic pel moment que viu la compositora: tres discos\, tres en la família\, tres passions (dansa\, teatre i música)… i tres és l’etapa de la vida que diu que està vivint\, perquè ha passat la infantesa\, la joventut i ara en l’etapa dels 40 s’enfronta a la maduresa amb un somriure i cançons personals\, però amb continguts universals\, temes motivadors\, lletres elaborades i melodies emotives. \nEn escena\, Pepa Cases a la veu\, Darío Díaz al baix i Hèctor Tirado a la guitarra i la producció general amb la possibilitat de sumar la participació dels i les artistes col·laboradores: Mireia Vives\, Andreu Valor\, Biano\, Tesa i Pep Gimeno Botifarra\, segons disponibilitat.
URL:https://frescultura.es/agenda/la-pepa-ontinyent/
LOCATION:Teatre Echegaray – Ontinyent\, Plaza Santo Domingo\, 8\, Ontinyent\, Valencia\, 46870\, Spain
CATEGORIES:Música
ATTACH;FMTTYPE=image/jpeg:https://frescultura.es/wp-content/uploads/2025/09/La-Pepa-Pepa-Cases.jpg
END:VEVENT
END:VCALENDAR