BEGIN:VCALENDAR
VERSION:2.0
PRODID:-//Frescultura - ECPv6.15.15//NONSGML v1.0//EN
CALSCALE:GREGORIAN
METHOD:PUBLISH
X-ORIGINAL-URL:https://frescultura.es
X-WR-CALDESC:Eventos para Frescultura
REFRESH-INTERVAL;VALUE=DURATION:PT1H
X-Robots-Tag:noindex
X-PUBLISHED-TTL:PT1H
BEGIN:VTIMEZONE
TZID:Europe/Paris
BEGIN:DAYLIGHT
TZOFFSETFROM:+0100
TZOFFSETTO:+0200
TZNAME:CEST
DTSTART:20240331T010000
END:DAYLIGHT
BEGIN:STANDARD
TZOFFSETFROM:+0200
TZOFFSETTO:+0100
TZNAME:CET
DTSTART:20241027T010000
END:STANDARD
BEGIN:DAYLIGHT
TZOFFSETFROM:+0100
TZOFFSETTO:+0200
TZNAME:CEST
DTSTART:20250330T010000
END:DAYLIGHT
BEGIN:STANDARD
TZOFFSETFROM:+0200
TZOFFSETTO:+0100
TZNAME:CET
DTSTART:20251026T010000
END:STANDARD
BEGIN:DAYLIGHT
TZOFFSETFROM:+0100
TZOFFSETTO:+0200
TZNAME:CEST
DTSTART:20260329T010000
END:DAYLIGHT
BEGIN:STANDARD
TZOFFSETFROM:+0200
TZOFFSETTO:+0100
TZNAME:CET
DTSTART:20261025T010000
END:STANDARD
END:VTIMEZONE
BEGIN:VEVENT
DTSTART;TZID=Europe/Paris:20251005T190000
DTEND;TZID=Europe/Paris:20251005T200000
DTSTAMP:20260424T000103
CREATED:20250908T092747Z
LAST-MODIFIED:20250929T115744Z
UID:9532-1759690800-1759694400@frescultura.es
SUMMARY:Maria Juan - Bocairent
DESCRIPTION:Maria Juan és actriu\, còmica\, presentadora i mare\, entre d’altres coses (encara que per això últim mai no li han pagat\, tot i treballar-hi a jornada completa). També és valenciana. Per si algú necessita la precisió geogràfica. Hi ha qui diu que fa un humor costumista\, hi ha qui diu que se’n passa de feminista\, hi ha qui diu que és una intolerant (a la lactosa)\, perquè no pren llet de vaca. \nLa gent parla massa\, això és un fet empíric. Ella parla molt\, això també. Però perquè li paguen per fer-ho (que ella en silenci també està feliç). Fa molts anys que combina el gènere stand-up amb la televisió\, la ràdio\, el teatre i l’audiovisual… \nDe totes aquestes coses\, alguna farà bé la xica. \nActuació patrocinada per el Circuit Valencià de Cultura organitzat per l’Institut Valencià de Cultura (IVC) amb colaboració de la Federació Valenciana de Municipis i Províncies (FVMP).
URL:https://frescultura.es/agenda/maria-juan-bocairent/
LOCATION:Teatre Avenida – Bocairent\, Calle Vicente Blasco Ibáñez\, 26.\, Bocairent\, Valencia\, 46880\, Spain
CATEGORIES:Monólogo
ATTACH;FMTTYPE=image/jpeg:https://frescultura.es/wp-content/uploads/2025/07/maria-juan-senyora-de-la-comedia.jpg
END:VEVENT
END:VCALENDAR